BEGIN:VCALENDAR
VERSION:2.0
PRODID:Events Booking
BEGIN:VEVENT
UID:69e9febd6a14c
SUMMARY:F23 in concert: Kleinstadt 
DESCRIPTION:Fünf Jungs Anfang Zwanzig. Kennengelernt im Kindergarten.Seit 
 über zehn Jahren machen sie gemeinsam Musik. Seit 2020 bekannt als kleins
 tadt.Das erste Album kleinstadt erschien 2022 und behandelt Erfahrungen au
 s der Jugend.all die jahre\, das zweite Album der Band\, erschien im Folge
 jahr und thematisiert vor allem das Erwachsenwerden.Quentin\, Timo\, Johan
 nes\, Fabio und Karl beweisen sich immer wieder als gute Freunde\, doch au
 ch als Musiker und Songwriter.2022 eröffneten sie das Kessel Festival in 
 Stuttgart.2023 wurden sie zum zweiten Mal zum Treffen Junge Musikszene in 
 Berlin eingeladen. Die Jungs halten sich zur Zeit in Herrenberg (Baden-Wü
 rttemberg) und Umgebung auf.Die Band schaut auf eine Zukunft voller Erinne
 rungen.
 {youtube}9VgVFLeYv-A{/youtube}
LOCATION:Forststraße\, Freudenstadt\, 72250 Baden-Württemberg\, Deutschla
 nd
DTSTART:20260612T183000Z
DTSTAMP:20260331T091546Z
ORGANIZER;CN=F23 Freudenstadt - Jugend\, Kultur\, Kids:MAILTO:siegfried.koe
 gel@f23-fds.de
GEO:48.466765;8.410614
X-APPLE-STRUCTURED-LOCATION;VALUE=URI;X-ADDRESS=Forststraße\, Freudenstadt
 \, 72250 Baden-Württemberg\, Deutschland;X-APPLE-RADIUS=72;X-TITLE=F23 Fr
 eudenstadt - Jugend\, Kultur\, Kids:48.466765;8.410614
END:VEVENT
END:VCALENDAR